BEGIN:VCALENDAR
VERSION:2.0
PRODID:-//North to Shore - ECPv6.15.13.1//NONSGML v1.0//EN
CALSCALE:GREGORIAN
METHOD:PUBLISH
X-WR-CALNAME:North to Shore
X-ORIGINAL-URL:https://northtoshore.com
X-WR-CALDESC:Events for North to Shore
REFRESH-INTERVAL;VALUE=DURATION:PT1H
X-Robots-Tag:noindex
X-PUBLISHED-TTL:PT1H
BEGIN:VTIMEZONE
TZID:America/New_York
BEGIN:DAYLIGHT
TZOFFSETFROM:-0500
TZOFFSETTO:-0400
TZNAME:EDT
DTSTART:20250309T070000
END:DAYLIGHT
BEGIN:STANDARD
TZOFFSETFROM:-0400
TZOFFSETTO:-0500
TZNAME:EST
DTSTART:20251102T060000
END:STANDARD
BEGIN:DAYLIGHT
TZOFFSETFROM:-0500
TZOFFSETTO:-0400
TZNAME:EDT
DTSTART:20260308T070000
END:DAYLIGHT
BEGIN:STANDARD
TZOFFSETFROM:-0400
TZOFFSETTO:-0500
TZNAME:EST
DTSTART:20261101T060000
END:STANDARD
BEGIN:DAYLIGHT
TZOFFSETFROM:-0500
TZOFFSETTO:-0400
TZNAME:EDT
DTSTART:20270314T070000
END:DAYLIGHT
BEGIN:STANDARD
TZOFFSETFROM:-0400
TZOFFSETTO:-0500
TZNAME:EST
DTSTART:20271107T060000
END:STANDARD
END:VTIMEZONE
BEGIN:VEVENT
DTSTART;TZID=America/New_York:20260619T190000
DTEND;TZID=America/New_York:20260619T213000
DTSTAMP:20260422T052020
CREATED:20260421T134610Z
LAST-MODIFIED:20260421T134610Z
UID:10006685-1781895600-1781904600@northtoshore.com
SUMMARY:Illuminated Hustle Dance Party 2026
DESCRIPTION:Asbury Park\, Dance\, Free\, N2S Official Selection				\n				\n					\n				\n				\n				\n					Illuminated Hustle Dance Party 2026				\n				\n				\n				\n					Friday\, June 19\, 2026 @ 7-9:30PM 				\n				\n				\n				\n					The Carousel Building\, 700 Ocean Avenue\, Asbury Park\, NJ 07712 				\n				\n				\n				\n					Free 				\n				\n				\n				\n							\n			\n		\n						\n				\n				\n				\n									This June\, step into Illuminated Hustle Dance Party 2026\, where for roughly two hours\, everyone inside — regardless of whether they have ever danced a step in their life — is part of the show. \nThe evening is anchored by Abdiel Jacobsen\, former Principal Dancer with the Martha Graham Dance Company and one of the country’s most passionate advocates for the Hustle. Abdiel will guide attendees through the dance’s origins in the early 1970s\, its ties to civil rights\, gay rights and women’s movements\, and its enduring place in American culture — all while getting you moving. Alongside him\, world-renowned DJ Natasha Diggs\, co-founder of Soul in the Horn\, provides a deep\, driving soundtrack that keeps the momentum going strong. \nThe night moves through spotlight performances by Abdiel and Kristine Bendul\, guided instruction for newcomers and experienced dancers alike and open social dancing where the floor belongs to everyone. Luminous Abstract layers the space with immersive visual projections that shift the Carousel Building into something genuinely otherworldly. \nThis event is free and open to all. It is presented by Asbury Park Dance Festival\, Dance Is Life\, Luminous Abstract\, and Wooden Walls Project — organizations that believe dance belongs in the streets\, not just on stages.\n\nCome ready to move and be moved. 								\n				\n					\n		\n					\n		\n				\n						\n					\n			\n						\n				\n					Discover Other N2S Events
URL:https://northtoshore.com/event/illuminated-hustle-dance-party-2026/
LOCATION:The Carousel Building\, 104-108 Asbury Ave\, Asbury Park\, NJ\, 07712\, United States
CATEGORIES:Asbury Park,Dance,Free,N2S Official Selection
ATTACH;FMTTYPE=image/jpeg:https://northtoshore.com/wp-content/uploads/2026/04/illuminated-hustle-dance-party.jpg
END:VEVENT
BEGIN:VEVENT
DTSTART;TZID=America/New_York:20260620T100000
DTEND;TZID=America/New_York:20260620T120000
DTSTAMP:20260422T052020
CREATED:20260421T134310Z
LAST-MODIFIED:20260421T193848Z
UID:10006688-1781949600-1781956800@northtoshore.com
SUMMARY:KYDS: Soul Care in the Park
DESCRIPTION:Asbury Park\, Dance\, Free\, N2S Official Selection				\n				\n				\n				\n					Illuminated Hustle Dance Party 2026				\n				\n				\n				\n					Friday\, June 19\, 2026 @ 7-9:30PM 				\n				\n				\n				\n					The Carousel Building\, 700 Ocean Avenue\, Asbury Park\, NJ 07712 				\n				\n				\n				\n									\n					\n						\n									Reserve a Spot\n					\n					\n				\n								\n				\n				\n				\n									This June\, step into Illuminated Hustle Dance Party 2026\, where for roughly two hours\, everyone inside — regardless of whether they have ever danced a step in their life — is part of the show. \nThe evening is anchored by Abdiel Jacobsen\, former Principal Dancer with the Martha Graham Dance Company and one of the country’s most passionate advocates for the Hustle. Abdiel will guide attendees through the dance’s origins in the early 1970s\, its ties to civil rights\, gay rights and women’s movements\, and its enduring place in American culture — all while getting you moving. Alongside him\, world-renowned DJ Natasha Diggs\, co-founder of Soul in the Horn\, provides a deep\, driving soundtrack that keeps the momentum going strong. \nThe night moves through spotlight performances by Abdiel and Kristine Bendul\, guided instruction for newcomers and experienced dancers alike and open social dancing where the floor belongs to everyone. Luminous Abstract layers the space with immersive visual projections that shift the Carousel Building into something genuinely otherworldly. \nThis event is free and open to all. It is presented by Asbury Park Dance Festival\, Dance Is Life\, Luminous Abstract\, and Wooden Walls Project — organizations that believe dance belongs in the streets\, not just on stages.\n\nCome ready to move and be moved. 								\n				\n					\n		\n					\n		\n				\n						\n					\n			\n						\n				\n							\n			\n		\n						\n				\n					\n		\n					\n		\n				\n						\n					\n			\n						\n				\n					Discover Other N2S Events				\n				\n				\n				\n							\n				\n				\n					\n						\n					\n			\n						\n				\n																\n															\n															\n				\n				\n				\n					The Newark Canvas Project				\n				\n				\n				\n							\n								\n													\n										Saturday\, June 20\, 2026 @ 11-4PM					\n								\n				\n						\n				\n				\n				\n							\n								\n													\n										\n				Art\, N2S Official Selection\, Newark				\n					\n								\n				\n						\n				\n					\n		\n					\n		\n				\n				\n					\n						\n					\n			\n						\n				\n																\n															\n															\n				\n				\n				\n					Taste of Newark Food Tours				\n				\n				\n				\n							\n								\n													\n										Saturday\, June 21\, 2026 @ 11AM					\n								\n				\n						\n				\n				\n				\n							\n								\n													\n										\n				Food\, Newark				\n					\n								\n				\n						\n				\n					\n		\n					\n		\n				\n				\n					\n						\n					\n			\n						\n				\n																\n															\n															\n				\n				\n				\n					AsburyFest				\n				\n				\n				\n							\n								\n													\n										Friday\, June 12 – Sunday\, June 14\, 2026					\n								\n				\n						\n				\n				\n				\n							\n								\n													\n										\n				Free\, Music\, N2S Official Selection				\n					\n								\n				\n						\n				\n					\n		\n					\n		\n				\n				\n					\n						\n					\n			\n						\n				\n																\n															\n															\n				\n				\n				\n					Georgies Juneteenth Drag Celebration				\n				\n				\n				\n							\n								\n													\n										Friday\, June 19\, 2026 @ 9PM					\n								\n				\n						\n				\n				\n				\n							\n								\n													\n										\n				Asbury Park\, Free\, Music\, N2S Official Selection				\n					\n								\n				\n						\n				\n					\n		\n					\n		\n				\n				\n					\n						\n					\n			\n						\n				\n																\n															\n															\n				\n				\n				\n					Georgies Father’s Day Drag Brunch				\n				\n				\n				\n							\n								\n													\n										Sunday\, June 21\, 2026 @ 1–5PM					\n								\n				\n						\n				\n				\n				\n							\n								\n													\n										\n				Asbury Park\, Free\, Music\, N2S Official Selection				\n					\n								\n				\n						\n				\n					\n		\n					\n		\n				\n				\n					\n						\n					\n			\n						\n				\n																\n															\n															\n				\n				\n				\n					Asbury Underground				\n				\n				\n				\n							\n								\n													\n										Saturday\, June 27\, 2026					\n								\n				\n						\n				\n				\n				\n							\n								\n													\n										\n				Art\, Comedy\, Free\, Music\, N2S Official Selection\, Poetry				\n					\n								\n				\n						\n				\n					\n		\n					\n		\n				\n				\n					\n						\n					\n			\n						\n				\n																\n															\n															\n				\n				\n				\n					Georgies LGBTQ+ Singer/Songwriter Showcase				\n				\n				\n				\n							\n								\n													\n										Tuesday\, June 23\, 2026 @ 7-11PM					\n								\n				\n						\n				\n				\n				\n							\n								\n													\n										\n				Asbury Park\, Free\, Music\, N2S Official Selection				\n					\n								\n				\n						\n				\n					\n		\n					\n		\n				\n				\n					\n						\n					\n			\n						\n				\n																\n															\n															\n				\n				\n				\n					Illuminated Hustle Dance Party 2026				\n				\n				\n				\n							\n								\n													\n										Friday\, June 19\, 2026 @ 7-9:30PM					\n								\n				\n						\n				\n				\n				\n							\n								\n													\n										\n				Asbury Park\, Dance\, Free\, N2S Official Selection				\n					\n								\n				\n						\n				\n					\n		\n					\n		\n				\n				\n					\n						\n					\n			\n						\n				\n																\n															\n															\n				\n				\n				\n					Luminous Abstract presents Memory Palace				\n				\n				\n				\n							\n								\n													\n										Saturday\, June 20\, 2026 @ 7-9:30PM					\n								\n				\n						\n				\n				\n				\n							\n								\n													\n										\n				Art\, Asbury Park\, N2S Official Selection				\n					\n								\n				\n						\n				\n					\n		\n					\n		\n				\n				\n					\n						\n					\n			\n						\n				\n																\n															\n															\n				\n				\n				\n					Historian Kathy Kelly presents “The Story of Stories”				\n				\n				\n				\n							\n								\n													\n										Sunday\, June 21\, 2026 @ 5-9:30PM					\n								\n				\n						\n				\n				\n				\n							\n								\n													\n										\n				Art\, Asbury Park\, Conversations\, N2S Official Selection				\n					\n								\n				\n						\n				\n					\n		\n					\n		\n				\n				\n					\n						\n					\n			\n						\n				\n																\n															\n															\n				\n				\n				\n					Industry of Newark				\n				\n				\n				\n							\n								\n													\n										Saturday\, June 20\, 2026 @ 8PM-12AM					\n								\n				\n						\n				\n				\n				\n							\n								\n													\n										\n				Free\, Music\, N2S Official Selection\, Newark				\n					\n								\n				\n						\n				\n					\n		\n					\n		\n				\n				\n					\n						\n					\n			\n						\n				\n																\n															\n															\n				\n				\n				\n					GLOW Newark!				\n				\n				\n				\n							\n								\n													\n										Saturday\, June 13\, 2026 @ 10AM-2PM					\n								\n				\n						\n				\n				\n				\n							\n								\n													\n										\n				Art\, Free\, N2S Official Selection\, Newark
URL:https://northtoshore.com/event/kyds-soul-care-in-the-park/
LOCATION:Springwood Park\, 126 Atkins Ave\, Asbury Park\, NJ\, 07712\, United States
CATEGORIES:Asbury Park,Dance,Free,N2S Official Selection
ATTACH;FMTTYPE=image/jpeg:https://northtoshore.com/wp-content/uploads/2026/04/kyds-soul-care-in-the-park.jpg
END:VEVENT
END:VCALENDAR