BEGIN:VCALENDAR
VERSION:2.0
PRODID:-//North to Shore - ECPv6.15.13.1//NONSGML v1.0//EN
CALSCALE:GREGORIAN
METHOD:PUBLISH
X-ORIGINAL-URL:https://northtoshore.com
X-WR-CALDESC:Events for North to Shore
REFRESH-INTERVAL;VALUE=DURATION:PT1H
X-Robots-Tag:noindex
X-PUBLISHED-TTL:PT1H
BEGIN:VTIMEZONE
TZID:America/New_York
BEGIN:DAYLIGHT
TZOFFSETFROM:-0500
TZOFFSETTO:-0400
TZNAME:EDT
DTSTART:20250309T070000
END:DAYLIGHT
BEGIN:STANDARD
TZOFFSETFROM:-0400
TZOFFSETTO:-0500
TZNAME:EST
DTSTART:20251102T060000
END:STANDARD
BEGIN:DAYLIGHT
TZOFFSETFROM:-0500
TZOFFSETTO:-0400
TZNAME:EDT
DTSTART:20260308T070000
END:DAYLIGHT
BEGIN:STANDARD
TZOFFSETFROM:-0400
TZOFFSETTO:-0500
TZNAME:EST
DTSTART:20261101T060000
END:STANDARD
BEGIN:DAYLIGHT
TZOFFSETFROM:-0500
TZOFFSETTO:-0400
TZNAME:EDT
DTSTART:20270314T070000
END:DAYLIGHT
BEGIN:STANDARD
TZOFFSETFROM:-0400
TZOFFSETTO:-0500
TZNAME:EST
DTSTART:20271107T060000
END:STANDARD
END:VTIMEZONE
BEGIN:VEVENT
DTSTART;TZID=America/New_York:20260620T170000
DTEND;TZID=America/New_York:20260620T200000
DTSTAMP:20260422T022210
CREATED:20260421T134249Z
LAST-MODIFIED:20260421T134249Z
UID:10006721-1781974800-1781985600@northtoshore.com
SUMMARY:Cazzeek Brothers - Cultural Talent Expo
DESCRIPTION:Asbury Park\, Free\, Music\, N2S Official Selection\, Poetry				\n				\n				\n				\n					\, DJ\, Juneteenth\, Spoken Word				\n				\n					\n				\n				\n				\n					Cazzeek Brothers – Cultural Talent Expo				\n				\n				\n				\n					Saturday\, June 20\, 2026 @ 5-8PM 				\n				\n				\n				\n					Springwood Park\, 126 Atkins Ave\, Asbury Park\, NJ 07712 				\n				\n				\n				\n					Free 				\n				\n				\n				\n							\n			\n		\n						\n				\n				\n				\n									Join us for the Cultural Talent Expo\, the electrifying evening continuation of the Juneteenth Family and Arts Festival and a vibrant showcase of Asbury Park’s best local talent! Hosted by the Cazzeek Brothers\, this free event features a range of incredible performances — from soul-stirring singers and DJs to captivating spoken word artists. The lineup highlights the richness and creativity of this dynamic city by the sea. \nThe Cultural Talent Expo serves as both a platform for emerging talent and a continuation of the Juneteenth’s celebration of freedom\, expression and community. It is an immersive experience where music\, language and storytelling come together to reflect the beauty and diversity of the African diaspora. \nDJ RunLuv sets the tone with a musical tribute spanning Motown to today. Rochelle Miller\, known as LaChocolateBox\, delivers spoken word that cuts straight to the soul. Pao Pao bridges languages and continents through music that defies category. Cameron “The Voice” brings the kind of presence that silences a crowd. \nThe Cazzeek Brothers have long been pillars of Asbury Park\, dedicating their work to uplifting youth and community. This evening is that mission made manifest. \nWhether you’re a longtime supporter of the arts or just looking for a great night out\, this is your chance to experience the heartbeat of Asbury Park’s creative scene. Bring your friends\, grab a spot on the lawn and enjoy an afternoon of music\, movement and powerful storytelling under the summer sky. \nThis event is part of the larger Inspire Life Juneteenth Festival\, which includes Corridor of Creativity\, the Juneteenth Family & Arts Festival and KYDS: Soul Care in the Park. Inspire Life is a community-driven organization dedicated to uplifting culture\, creativity and connection. 								\n				\n					\n		\n					\n		\n				\n						\n					\n			\n						\n				\n					Discover Other N2S Events
URL:https://northtoshore.com/event/cazzeek-brothers-cultural-talent-expo/
LOCATION:Springwood Park\, 126 Atkins Ave\, Asbury Park\, NJ\, 07712\, United States
CATEGORIES:Asbury Park,Free,Music,N2S Official Selection,Poetry
ATTACH;FMTTYPE=image/jpeg:https://northtoshore.com/wp-content/uploads/2026/04/cazzeek-brothers-cultural-talent-expo.jpg
END:VEVENT
END:VCALENDAR