BEGIN:VCALENDAR
VERSION:2.0
PRODID:-//North to Shore - ECPv6.15.13.1//NONSGML v1.0//EN
CALSCALE:GREGORIAN
METHOD:PUBLISH
X-WR-CALNAME:North to Shore
X-ORIGINAL-URL:https://northtoshore.com
X-WR-CALDESC:Events for North to Shore
REFRESH-INTERVAL;VALUE=DURATION:PT1H
X-Robots-Tag:noindex
X-PUBLISHED-TTL:PT1H
BEGIN:VTIMEZONE
TZID:America/New_York
BEGIN:DAYLIGHT
TZOFFSETFROM:-0500
TZOFFSETTO:-0400
TZNAME:EDT
DTSTART:20250309T070000
END:DAYLIGHT
BEGIN:STANDARD
TZOFFSETFROM:-0400
TZOFFSETTO:-0500
TZNAME:EST
DTSTART:20251102T060000
END:STANDARD
BEGIN:DAYLIGHT
TZOFFSETFROM:-0500
TZOFFSETTO:-0400
TZNAME:EDT
DTSTART:20260308T070000
END:DAYLIGHT
BEGIN:STANDARD
TZOFFSETFROM:-0400
TZOFFSETTO:-0500
TZNAME:EST
DTSTART:20261101T060000
END:STANDARD
BEGIN:DAYLIGHT
TZOFFSETFROM:-0500
TZOFFSETTO:-0400
TZNAME:EDT
DTSTART:20270314T070000
END:DAYLIGHT
BEGIN:STANDARD
TZOFFSETFROM:-0400
TZOFFSETTO:-0500
TZNAME:EST
DTSTART:20271107T060000
END:STANDARD
END:VTIMEZONE
BEGIN:VEVENT
DTSTART;TZID=America/New_York:20260616T200000
DTEND;TZID=America/New_York:20260616T230000
DTSTAMP:20260422T021136
CREATED:20260420T175155Z
LAST-MODIFIED:20260422T025339Z
UID:10006713-1781640000-1781650800@northtoshore.com
SUMMARY:Sed’s House of Blues
DESCRIPTION:Allettante Restaurant				\n				\n				\n				\n					212 Market Street 				\n				\n				\n				\n									\n					\n						\n									Get Tickets\n					\n					\n				\n								\n				\n				\n				\n							\n			\n		\n						\n				\n					\n		\n					\n		\n				\n						\n					\n			\n						\n				\n							\n			\n						\n		\n						\n				\n					\n		\n					\n		\n				\n						\n					\n			\n						\n				\n					Discover Other N2S Events
URL:https://northtoshore.com/event/seds-house-of-blues/
LOCATION:Allettante Restaurant\, 212 Market Street\, Newark\, NJ\, 07102\, United States
CATEGORIES:Free,Music,N2S Official Selection,Newark
ATTACH;FMTTYPE=image/jpeg:https://northtoshore.com/wp-content/uploads/2026/04/seds-house-of-blues.jpg
END:VEVENT
END:VCALENDAR